BEGIN:VCALENDAR
VERSION:2.0
PRODID:icalendar-ruby
CALSCALE:GREGORIAN
METHOD:PUBLISH
BEGIN:VEVENT
DTSTAMP:20260421T133252Z
UID:525-276618@territoryofthepeople.ca
DTSTART:20260502T160000Z
DTEND:20260502T210000Z
CLASS:PUBLIC
CREATED:20260415T130831
DESCRIPTION:Bedding plants:\nTomatoes/peppers\nKale/Lettuce\nCucumber/Zucch
 inis\nOrnamental grasses\nHerbs\nSunflowers and so much more!!
LAST-MODIFIED:20260415T130831
LOCATION:Williams Lake
SUMMARY:Giant Plant Sale
URL;VALUE=URI:https://www.territoryofthepeople.ca/events/giant-plant-sale--
 525/2026-05-02
ATTACH;FILENAME=670384639_1385102973658461_7238888260940880434_n.jpg;FMTTYP
 E=image/jpeg:https://dq5pwpg1q8ru0.cloudfront.net/2026/04/15/20/08/31/97e9
 23f0-e1b2-4587-b828-41723dcca110/670384639_1385102973658461_72388882609408
 80434_n.jpg
END:VEVENT
END:VCALENDAR
